Workbook

Sheet 2학기 예산안
A1: 2017-2학기 33대 동아리연합회 자치회비 예결산안
H2: 저번학기 이월자치회비 | J2: ='[1]자치회비 예결산안'!$J$86 -> 1359368
A3: 과목
A4: 관 | C4: 항 | E4: 목 | G4: 세목 | H4: 예상세출 | I4: 사용금액 | J4: 남은금액
A5: 1 | B5: 사무비 | C5: 1 | D5: 업무추진비 | E5: 1 | F5: 운영비 | G5: 간담회 및 만남 | H5: 50000 | J5: =H5-I5 -> 50000
G6: 행사참석 | H6: 50000 | J6: =H6-I6 -> 50000
G7: 소계 | H7: =SUM(H5:H6) -> 100000 | I7: =I5+I6 -> 0 | J7: =H7-I7 -> 100000
E8: 2 | F8: 직책보조비 | G8: 동아리연합회장 | H8: 50000 | I8: 6100 | J8: =H8-I8 -> 43900
G9: 부동아리연합회장 | H9: 50000 | I9: 15880 | J9: =H9-I9 -> 34120
G10: 중앙집행부 | H10: 50000 | I10: 8400 | J10: =H10-I10 -> 41600
G11: 소계 | H11: =SUM(H8:H10) -> 150000 | I11: =I8+I9+I10 -> 30380 | J11: =H11-I11 -> 119620
E12: 업무추진비 소계 | H12: =H7+H11 -> 250000 | I12: =I7+I11 -> 30380 | J12: =H12-I12 -> 219620
C13: 2 | D13: 운영비 | E13: 3 | F13: 사무비 | G13: 사무용품 구입 | H13: 200000 | I13: 23100 | J13: =H13-I13 -> 176900
G14: 기타 | H14: 50000 | J14: =H14-I14 -> 50000
G15: 소계 | H15: =SUM(H13:H14) -> 250000 | I15: =I13+I14 -> 23100 | J15: =H15-I15 -> 226900
E16: 운영비 소계 | H16: =H15 -> 250000 | I16: =I15 -> 23100 | J16: =H16-I16 -> 226900
C17: 3 | D17: 홍보비 | E17: 4 | F17: 일반홍보비 | G17: 홍보물 | H17: 50000 | J17: =H17-I17 -> 50000
G18: 소계 | H18: =H17 -> 50000 | I18: =I17 -> 0 | J18: =H18-I18 -> 50000
E19: 홍보비 소계 | H19: =H18 -> 50000 | I19: =I18 -> 0 | J19: =H19-I19 -> 50000
C20: 사무비 합계 | H20: =H12+H16+H19 -> 550000 | I20: =I12+I16+I19 -> 53480 | J20: =H20-I20 -> 496520
A21: 2 | B21: 사업비 | C21: 4 | D21: 사업운영비 | E21: 5 | F21: 동연사업 | G21: - | H21: 50000 | I21: 999400 | J21: =H21-I21 -> -949400
G22: 소계 | H22: =H21 -> 50000 | I22: =I21 -> 999400 | J22: =H22-I22 -> -949400
E23: 6 | F23: 분과사업 | G23: - | H23: 50000 | J23: =H23-I23 -> 50000
G24: 소계 | H24: =H23 -> 50000 | I24: =I23 -> 0 | J24: =H24-I24 -> 50000
E25: 사업운영비 소계 | H25: =H22+H24 -> 100000 | I25: =I22+I24 -> 999400 | J25: =H25-I25 -> -899400
C26: 5 | D26: 사업지원비 | E26: 7 | F26: 대동제 지원 | G26: 대여비 | H26: 150000 | I26: 150000 | J26: =H26-I26 -> 0
G27: 기타 | H27: 100000 | I27: 77900 | J27: =H27-I27 -> 22100
G28: 소계 | H28: =H26+H27 -> 250000 | I28: =I26+I27 -> 227900 | J28: =H28-I28 -> 22100
E29: 8 | F29: 홈페이지 지원 | G29: 홈페이지 지원 | H29: 600000 | I29: 231000 | J29: =H29-I29 -> 369000
G30: 기타 | H30: 100000 | J30: =H30-I30 -> 100000
G31: 소계 | H31: =H29+H30 -> 700000 | I31: =I29+I30 -> 231000 | J31: =H31-I31 -> 469000
E32: 9 | F32: 기타사업 지원 | G32: - | H32: 400000 | I32: 399060 | J32: =H32-I32 -> 940
G33: 소계 | H33: =H32 -> 400000 | I33: =I32 -> 399060 | J33: =H33-I33 -> 940
E34: 일반사업비 소계 | H34: =H28+H31+H33 -> 1350000 | I34: =I31+I33+I28 -> 857960 | J34: =H34-I34 -> 492040
C35: 사업비 합계 | H35: =H25+H34 -> 1450000 | I35: =I25+I34 -> 1857360 | J35: =H35-I35 -> -407360
A36: 3 | B36: 지원금 | C36: 6 | D36: 일반지원 | E36: 10 | F36: 동아리지원 | G36: 개강선물 | H36: 350000 | I36: 384590 | J36: =H36-I36 -> -34590
G37: 기타 | H37: 50000 | J37: =H37-I37 -> 50000
G38: 소계 | H38: =H36+H37 -> 400000 | I38: =I36+I37 -> 384590 | J38: =H38-I38 -> 15410
E39: 11 | F39: 선거관리워원회 | G39: 선관위 업무 지원 | H39: 400000 | I39: 298500 | J39: =H39-I39 -> 101500
G40: 소계 | H40: =H39 -> 400000 | I40: =I39 -> 298500 | J40: =H40-I40 -> 101500
...

Sheet 9월 지출내역
A1: 선결제 | B1: 날짜 | C1: 항목 | D1: 분류 | E1: 수입 | F1: 지출 | G1: 사무비 | H1: 사업비 | I1: 지원금 | J1: 운영비 | K1: 예비비
A2: 득현 | B2: 9월 1일 | C2: 청주 수해복구 교통비 지원 (7/24 결제) | D2: 사무비-업무추진비-직책보조비-동아리연합회장 | F2: 6100 | G2: 6100
A3: 승준 | B3: 9월 1일 | C3: 청주 수해복구 교통비 지원 (7/24 결제) | D3: 사무비-업무추진비-직책보조비-부동아리연합회장 | F3: 6100 | G3: 6100
A4: 승준 | B4: 9월 1일 | C4: 워크샵 물품구매 택시비 지원 (8/24 결제) | D4: 사무비-업무추진비-직책보조비-부동아리연합회장 | F4: 10030 | G4: 9780 | K4: 250
B5: 9월 4일 | C5: 개강총회 선물 | D5: 지원비-일반지원-동아리지원-개강선물 | F5: 49500 | I5: 49500
B6: 9월 4일 | C6: 개강총회 선물 | D6: 지원비-일반지원-동아리지원-개강선물 | F6: 9300 | I6: 9300
B7: 9월 4일 | C7: 아비꼬 오결제 | D7: 예비비-예비비-예비비 | F7: 14000 | K7: 14000
B8: 9월 4일 | C8: 아비꼬 오결제 환급 | D8: - | E8: 14000
B9: 9월 7일 | C9: 개강총회 선물 | D9: 지원비-일반지원-동아리지원-개강선물 | F9: 49500 | I9: 49500
B10: 9월 7일 | C10: 개강총회 선물 | D10: 지원비-일반지원-동아리지원-개강선물 | F10: 9700 | I10: 9700
B11: 9월 8일 | C11: 개강총회 선물 | D11: 지원비-일반지원-동아리지원-개강선물 | F11: 49500 | I11: 49500
B12: 9월 12일 | C12: 개강총회 선물 | D12: 지원비-일반지원-동아리지원-개강선물 | F12: 61300 | I12: 61300
B13: 9월 13일 | C13: 개강총회 선물 | D13: 지원비-일반지원-동아리지원-개강선물 | F13: 87590 | I13: 87590
B14: 9월 14일 | C14: 응용과학대학 환급(1학기 대동제 잔여금액) | D14: - | E14: 2500
B15: 9월 18일 | C15: 단풍놀이 등불 구매 | D15: 사업비-사업지원비-대동제 지원-기타 | F15: 58000 | H15: 58000
B16: 9월 19일 | C16: 대동제 준비 지원 교통비 | D16: 사무비-업무추진비-직책보조비-중앙집행부 | F16: 4200 | G16: 4200
B17: 9월 19일 | C17: 단풍놀이 간식지원 | D17: 사업비-사업지원비-대동제 지원-기타 | F17: 19900 | H17: 19900
B18: 9월 19일 | C18: 2학기 자치회비 입금 | D18: - | E18: 3019500
B19: 9월 19일 | C19: 대동제 준비 지원 교통비 | D19: 사무비-업무추진비-직책보조비-중앙집행부 | F19: 4200 | G19: 4200
B20: 9월 19일 | C20: 재등록서류 보관용 파일 구입 | D20: 사무비-운영비-사무비-사무용품 구입 | F20: 23100 | G20: 23100
A21: 득현 | B21: 9월 21일 | C21: 개강총회 선물(9/11 구입) | D21: 지원비-일반지원-동아리지원-개강선물 | F21: 59700 | I21: 59400 | K21: 300
A22: 득현 | B22: 9월 21일 | C22: 개강총회 선물(9/19 구입) | D22: 지원비-일반지원-동아리지원-개강선물 | F22: 9100 | I22: 8800 | K22: 300
E23: 총수입 | F23: 총지출
E24: =SUM(E2:E22) -> 3036000 | F24: =SUM(F2:F22) -> 530820
D25: 9월 잔여금액 | E25: ='[2]3월지출내역'!D33-'[2]4월지출내역'!F25+'[2]4월지출내역'!E25+'[2]5월 지출내역'!E19-'[2]5월 지출내역'!F19+E24-F24+'[2]6-7월 지출내역'!$E$14-'[2]6-7월 지출내역'!$F$14 -> 3864548
D27: =E25-'2학기 예산안'!J57 -> 1962140

Sheet 10월 지출내역
A1: 선결제 | B1: 날짜 | C1: 항목 | D1: 분류 | E1: 수입 | F1: 지출 | G1: 사무비 | H1: 사업비 | I1: 지원금 | J1: 운영비 | K1: 예비비
B2: 10월 13일 | C2: 우.동.하.다 사업 스왈링 지원 | D2: 사업비-사업지원비-기타사업지원 | F2: =SUM(G2:K2) -> 100250 | H2: 100000 | K2: 250
B3: 10월 13일 | C3: 우.동.하.다 사업 무풍지대 지원 | D3: 사업비-사업지원비-기타사업지원 | F3: =SUM(G3:K3) -> 100250 | H3: 100000 | K3: 250
B4: 10월 26일 | C4: 등록 이후 미처리된 자치회비 입금 | D4: - | E4: 115500 | F4: =SUM(G4:K4) -> 0
B5: 10월 30일 | C5: 우.동.하.다 사업 빛사냥 지원 | D5: 사업비-사업지원비-기타사업지원 | F5: =SUM(G5:K5) -> 98560 | H5: 98560
E23: 총수입 | F23: 총지출
E24: =SUM(E2:E22) -> 115500 | F24: =SUM(F2:F22) -> 299060
D25: 10월 잔여금액 | E25: ='9월 지출내역'!E25-F24+E24 -> 3680988
D27: =E25-'2학기 예산안'!J57 -> 1778580

Sheet 11월 지출내역
A1: 선결제 | B1: 날짜 | C1: 항목 | D1: 분류 | E1: 수입 | F1: 지출 | G1: 사무비 | H1: 사업비 | I1: 지원금 | J1: 운영비 | K1: 예비비
B2: 11월 13일 | C2: 동아리연합회 설문조사 추첨 선물 | D2: 사업비-사업지원비-기타사업지원 | F2: =SUM(G2:K2) -> 100250 | H2: 100000 | K2: 250
B3: 11월 21일 | C3: 동아리 연합회 투표 독려 물품 | D3: 지원금-일반지원-선거관리위원회-선관위 업무 지원 | F3: =SUM(G3:K3) -> 298500 | I3: 298500
B4: 11월 29일 | C4: 엠프 대여비 | D4: 사업비-사업지원비-대동제 지원-대여비 | F4: =SUM(G4:K4) -> 150500 | H4: 150000 | K4: 500
E23: 총수입 | F23: 총지출
E24: =SUM(E2:E22) -> 0 | F24: =SUM(F2:F22) -> 549250
D25: 11월 잔여금액 | E25: ='10월 지출내역'!E25-F24+E24 -> 3131738

Sheet 12월 지출내역
A1: 선결제 | B1: 날짜 | C1: 항목 | D1: 분류 | E1: 수입 | F1: 지출 | G1: 사무비 | H1: 사업비 | I1: 지원금 | J1: 운영비 | K1: 예비비
B2: 12월 8일 | C2: 2017년 동연 홈페이지 서버 유지 비용 | D2: 사업비-사업지원비-홈페이지 지원-홈페이지 지원 | F2: 231000 | H2: 231000
B3: 12월 13일 | C3: 2017년 2학기 간식 사업 | D3: 사업비-사업운영비-동연사업 | F3: 999400 | H3: 999400
B4: 12월 16일 | C4: 예금이자 | D4: 예비비-예비비-예비비 | E4: 1070
E23: 총수입 | F23: 총지출
E24: =SUM(E2:E22) -> 1070 | F24: =SUM(F2:F22) -> 1230400
D25: 12월 잔여금액 | E25: ='11월 지출내역'!E25-F24+E24 -> 1902408
