Workbook

Sheet 자치회비 예결산안
A1: 2017-1학기 33대 동아리연합회 자치회비 예결산안
A2: 과목 | I2: 1학기자치회비 | J2: 3842500
A3: 관 | C3: 항 | E3: 목 | G3: 세목 | H3: 예상세출 | I3: 사용금액 | J3: 남은금액
A4: 1 | B4: 사무비 | C4: 1 | D4: 업무추진비 | E4: 1 | F4: 운영비 | G4: 간담회 및 만남 | H4: 100000 | J4: =H4-I4 -> 100000
G5: LT | H5: 100000 | I5: 46160 | J5: =H5-I5 -> 53840
G6: 행사참석 | H6: 50000 | J6: =H6-I6 -> 50000
G7: 기타 | H7: 50000 | J7: =H7-I7 -> 50000
G8: 소계 | H8: =SUM(H4:H7) -> 300000 | I8: =SUM(I4:I7) -> 46160 | J8: =H8-I8 -> 253840
E9: 2 | F9: 직책보조비 | G9: 동아리연합회장 | H9: 100000 | I9: ='3월지출내역'!F2 -> 25000 | J9: =H9-I9 -> 75000
G10: 부동아리연합회장 | H10: 100000 | I10: ='3월지출내역'!F3 -> 4400 | J10: =H10-I10 -> 95600
G11: 중앙집행부 | H11: 50000 | J11: =H11-I11 -> 50000
G12: 위원회장 | H12: 50000 | J12: =H12-I12 -> 50000
G13: TF장 | H13: 100000 | J13: =H13-I13 -> 100000
G14: 소계 | H14: =SUM(H9:H13) -> 400000 | I14: =SUM(I9:I13) -> 29400 | J14: =H14-I14 -> 370600
E15: 3 | F15: 회의비 | G15: 동연회의 | H15: 50000 | J15: =H15-I15 -> 50000
G16: 외부회의 | H16: 50000 | J16: =H16-I16 -> 50000
G17: TF회의 | H17: 50000 | J17: =H17-I17 -> 50000
G18: 소계 | H18: =SUM(H15:H17) -> 150000 | I18: =SUM(I15:I17) -> 0 | J18: =H18-I18 -> 150000
E19: 업무추진비 소계 | H19: =H8+H14+H18 -> 850000 | I19: =I8+I14+I18 -> 75560 | J19: =H19-I19 -> 774440
C20: 2 | D20: 운영비 | E20: 4 | F20: 사무비 | G20: 사무용품 구입 | H20: 100000 | I20: 151100 | J20: =H20-I20 -> -51100
G21: 기타 | H21: 50000 | J21: =H21-I21 -> 50000
G22: 소계 | H22: =SUM(H20:H21) -> 150000 | I22: =I20+I21 -> 151100 | J22: =H22-I22 -> -1100
E23: 운영비 소계 | H23: =H22 -> 150000 | I23: =I22 -> 151100 | J23: =H23-I23 -> -1100
C24: 3 | D24: 홍보비 | E24: 5 | F24: 일반홍보비 | G24: 홍보물 | H24: 100000 | J24: =H24-I24 -> 100000
G25: 현수막 | H25: 200000 | J25: =H25-I25 -> 200000
G26: 기타 | H26: 50000 | J26: =H26-I26 -> 50000
G27: 소계 | H27: =H24+H25+H26 -> 350000 | I27: =SUM(I24:I26) -> 0 | J27: =H27-I27 -> 350000
E28: 홍보비 소계 | H28: =H27 -> 350000 | I28: =I27 -> 0 | J28: =H28-I28 -> 350000
C29: 사무비 합계 | H29: =H19+H23+H28 -> 1350000 | I29: =I19+I23+I28 -> 226660 | J29: =H29-I29 -> 1123340
A30: 2 | B30: 사업비 | C30: 4 | D30: 사업운영비 | E30: 7 | F30: 학기중 사업 | G30: - | H30: 50000 | J30: =H30-I30 -> 50000
G31: 소계 | H31: =H30 -> 50000 | I31: =I30 -> 0 | J31: =H31-I31 -> 50000
E32: 8 | F32: 방중사업 | G32: - | H32: 50000 | J32: =H32-I32 -> 50000
G33: 소계 | H33: =H32 -> 50000 | I33: =I32 -> 0 | J33: =H33-I33 -> 50000
E34: 사업운영비 소계 | H34: =H31+H33 -> 100000 | I34: =I31+I33 -> 0 | J34: =H34-I34 -> 100000
C35: 5 | D35: 사업지원비 | E35: 9 | F35: OT 지원 | G35: 물, 간식, 안주 지원 | H35: 300000 | I35: =SUM('3월지출내역'!F14:F19,'3월지출내역'!F8,'3월지출내역'!F11) -> 309840 | J35: =H35-I35 -> -9840
G36: 기타 | H36: 100000 | I36: ='3월지출내역'!F9+'3월지출내역'!F10+'3월지출내역'!F12+'3월지출내역'!F13+'3월지출내역'!F20+'3월지출내역'!F21 -> 246600 | J36: =H36-I36 -> -146600
G37: 소계 | H37: =H35+H36 -> 400000 | I37: =I35+I36 -> 556440 | J37: =H37-I37 -> -156440
E38: 10 | F38: 대동제 지원 | G38: 상금 | H38: 100000 | J38: =H38-I38 -> 100000
G39: 기타 | H39: 100000 | J39: =H39-I39 -> 100000
G40: 소계 | H40: =H38+H39 -> 200000 | I40: =I38+I39 -> 0 | J40: =H40-I40 -> 200000
E41: 11 | F41: 대회 지원 | G41: 상금 | H41: 300000 | J41: =H41-I41 -> 300000
G42: 기타 | H42: 100000 | J42: =H42-I42 -> 100000
G43: 소계 | H43: =H41+H42 -> 400000 | I43: =I41+I42 -> 0 | J43: =H43-I43 -> 400000
E44: 12 | F44: 기타사업 지원 | G44: - | H44: 100000 | I44: 101780 | J44: =H44-I44 -> -1780
G45: 소계 | H45: 100000 | I45: =I44 -> 101780 | J45: =H45-I45 -> -1780
E46: 일반사업비 소계 | H46: =H37+H40+H45+H43 -> 1100000 | I46: =I37+I40+I43+I45 -> 658220 | J46: =H46-I46 -> 441780
C47: 사업비 합계 | H47: =H34+H46 -> 1200000 | I47: =I34+I46 -> 658220 | J47: =H47-I47 -> 541780
A48: 3 | B48: 지원금 | C48: 6 | D48: 분과지원 | E48: 13 | F48: 사회분과 | G48: - | H48: 30000 | J48: =H48-I48 -> 30000
G49: 소계 | H49: =H48 -> 30000 | I49: =I48 -> 0 | J49: =H49-I49 -> 30000
E50: 14 | F50: 연행분과 | G50: - | H50: 45000 | J50: =H50-I50 -> 45000
G51: 소계 | H51: =H50 -> 45000 | I51: =I50 -> 0 | J51: =H51-I51 -> 45000
E52: 15 | F52: 전시창작분과 | G52: - | H52: 25000 | J52: =H52-I52 -> 25000
G53: 소계 | H53: =H52 -> 25000 | I53: =I52 -> 0 | J53: =H53-I53 -> 25000
E54: 16 | F54: 종교분과 | G54: - | H54: 35000 | J54: =H54-I54 -> 35000
G55: 소계 | H55: =H54 -> 35000 | I55: =I54 -> 0 | J55: =H55-I55 -> 35000
E56: 17 | F56: 체육분과 | G56: - | H56: 75000 | J56: =H56-I56 -> 75000
G57: 소계 | H57: =H56 -> 75000 | I57: =I56 -> 0 | J57: =H57-I57 -> 75000
E58: 18 | F58: 취미교양분과 | G58: - | H58: 30000 | J58: =H58-I58 -> 30000
G59: 소계 | H59: =H58 -> 30000 | I59: =I58 -> 0 | J59: =H59-I59 -> 30000
E60: 19 | F60: 학술분과 | G60: - | H60: 55000 | J60: =H60-I60 -> 55000
G61: 소계 | H61: =H60 -> 55000 | I61: =I60 -> 0 | J61: =H61-I61 -> 55000
E62: 분과지원 소계 | H62: =H49+H51+H53+H55+H57+H59+H61 -> 295000 | I62: =I49+I51+I53+I55+I57+I59+I61 -> 0 | J62: =H62-I62 -> 295000
C63: 7 | D63: 일반지원 | E63: 20 | F63: 동아리지원 | G63: 개강선물 | H63: 300000 | I63: =SUM('3월지출내역'!F22:F30) -> 295700 | J63: =H63-I63 -> 4300
G64: 기타 | H64: 50000 | J64: =H64-I64 -> 50000
G65: 소계 | H65: 350000 | I65: =I63+I64 -> 295700 | J65: =H65-I65 -> 54300
E66: 21 | F66: 행사지원 | G66: - | H66: 50000 | J66: =H66-I66 -> 50000
G67: 소계 | H67: 50000 | I67: =I66 -> 0 | J67: =H67-I67 -> 50000
E68: 일반지원 소계 | H68: =H65+H67 -> 400000 | I68: =I65+I67 -> 295700 | J68: =H68-I68 -> 104300
C69: 8 | D69: 기타지원 | E69: 22 | F69: 기타지원 | G69: - | H69: 50000 | J69: =H69-I69 -> 50000
G70: 소계 | H70: =H69 -> 50000 | I70: =I69 -> 0 | J70: =H70-I70 -> 50000
E71: 기타지원 소계 | H71: =H70 -> 50000 | I71: =I70 -> 0 | J71: =H71-I71 -> 50000
C72: 지원금 합계 | H72: =H62+H68+H71 -> 745000 | I72: =I62+I68+I71 -> 295700 | J72: =H72-I72 -> 449300
A73: 4 | B73: 운영비 | C73: 9 | D73: 장소관리위원회 | E73: 23 | F73: 운영비 | G73: 운영비 | H73: 50000 | J73: =H73-I73 -> 50000
G74: 소계 | H74: =H73 -> 50000 | I74: =I73 -> 0 | J74: =H74-I74 -> 50000
E75: 장소관리위원회 소계 | H75: =H74 -> 50000 | I75: =I74 -> 0 | J75: =H75-I75 -> 50000
D76: 사안별 TF 운영 | E76: 24 | F76: 운영비 | G76: 운영비 | H76: 100000 | J76: =H76-I76 -> 100000
G77: 소계 | H77: =H76 -> 100000 | I77: =I76 -> 0 | J77: =H77-I77 -> 100000
E78: 사안별 TF 운영 소계 | H78: =H77 -> 100000 | I78: =I77 -> 0 | J78: =H78-I78 -> 100000
C79: 위원회지출 합계 | H79: =H75+H78 -> 150000 | I79: =I75+I78 -> 0 | J79: =H79-I79 -> 150000
A80: 5 | B80: 예비비 | C80: 10 | D80: 예비비 | E80: 25 | F80: 긴급의료비 | G80: 의료비 | H80: 50000 | J80: =H80-I80 -> 50000
G81: 소계 | H81: 50000 | I81: =I80 -> 0 | J81: =H81-I81 -> 50000
E82: 26 | F82: 예비비 | G82: - | H82: 50000 | I82: 4000 | J82: =H82-I82 -> 46000
G83: 소계 | H83: 50000 | I83: =I82 -> 4000 | J83: =H83-I83 -> 46000
E84: 예비비 소계 | H84: =H81+H83 -> 100000 | I84: =I83 -> 4000 | J84: =H84-I84 -> 96000
C85: 예비비 합계 | H85: =H84 -> 100000 | I85: =I84 -> 4000 | J85: =H85-I85 -> 96000
A86: 총 계 | H86: 3545000 | I86: =I29+I47+I72+I79+I85 -> 1184580 | J86: =J2-I86 -> 2657920
G87: -

Sheet 3월지출내역
A1: 선결제 | B1: 날짜 | C1: 항목 | D1: 수입 | E1: 분류 | F1: 지출 | G1: 사무비 | H1: 사업비 | I1: 지원금 | J1: 운영비 | K1: 예비비 | L1: 비고
A2: 득현 | B2: 1.22 | C2: 학생회 캠프 참가비 | E2: 업무추진비-직책보조비-동아리연합회장 | F2: =SUM(G2:K2) -> 25000 | G2: 25000
A3: 승준 | B3: 2.4 | C3: 부동연장 경국엠 참가 교통비 | E3: 업무추진비-직책보조비-부동아리연합회장 | F3: =SUM(G3:K3) -> 4400 | G3: 4400
B4: 2.14 | C4: OT 버스 계약금(숙박비) / 총학생회 자치회비 지원금 | D4: 200000 | E4: - | F4: =SUM(G4:K4) -> 200000 | G4: 200000 | L4: 버스업체(해오름) 계약금으로 사용했으나, 아이파크쪽에서 기사 숙박이 안된다 하여 숙박비용으로 지불처리
A5: 모임 | B5: 2.16 | C5: 수수료(버스업체 계약금/숙박비) | E5: 예비비-예비비 | F5: =SUM(H5:K5) -> 1000 | K5: 1000
A6: 모임 | B6: 2.16 | C6: 수수료(OT 전정 저녁비) | E6: 예비비-예비비 | F6: =SUM(H6:K6) -> 500 | K6: 500
A7: 모임 | B7: 2.16 | C7: 수수료(OT 생대 저녁비) | E7: 예비비-예비비 | F7: =SUM(H7:K7) -> 1000 | K7: 1000
A8: 득현 | B8: 2.17 | C8: 공연진 식수지원 | E8: 사업지원비-OT지원-물,간식,안주지원 | F8: =SUM(H8:K8) -> 10000 | H8: 10000
A9: 모임 | B9: 2.17 | C9: 렌터카 대여 | E9: 사업지원비-OT지원-기타 | F9: =SUM(H9:K9) -> 198000 | H9: 198000
A10: 경민 | B10: 2.17 | C10: 렌터카 하이패스 | E10: 사업지원비-OT지원-기타 | F10: =SUM(H10:K10) -> 10200 | H10: 10200 | L10: 동연통장으로 오입금 / 처리함
A11: 모임 | B11: 2.17 | C11: 공연진 간식지원 | E11: 사업지원비-OT지원-물,간식,안주지원 | F11: =SUM(H11:K11) -> 17460 | H11: 17460
A12: 모임 | B12: 2.17 | C12: 생리대 구매 | E12: 사업지원비-OT지원-기타 | F12: =SUM(G12:K12) -> 2600 | H12: 2600
A13: 모임 | B13: 2.17 | C13: 파스 구매 | E13: 사업지원비-OT지원-기타 | F13: =SUM(H13:K13) -> 4000 | H13: 4000
A14: 모임 | B14: 2.17 | C14: 등대, 우리말메아리 새우튀김 지원(안주지원) | E14: 사업지원비-OT지원-물,간식,안주지원 | F14: =SUM(H14:K14) -> 40000 | H14: 40000
A15: 득현 | B15: 2.17 | C15: 공연진 식수지원 | E15: 사업지원비-OT지원-물,간식,안주지원 | F15: =SUM(H15:K15) -> 14100 | H15: 14100
A16: 모임 | B16: 2.17 | C16: 공연진 안주 / 자봉단 식비 지원 | E16: 사업지원비-OT지원-물,간식,안주지원 | F16: =SUM(H16:K16) -> 89140 | H16: 89140
A17: 모임 | B17: 2.18 | C17: 공연진 안주, 비품 지원 / 자봉단 식비 지원 | E17: 사업지원비-OT지원-물,간식,안주지원 | F17: =SUM(H17:K17) -> 63090 | H17: 63090 | L17: 득현통장으로 오입금 / 처리함
A18: 득현 | B18: 2.18 | C18: 공연진 식수 및 간식, 안주지원 | E18: 사업지원비-OT지원-물,간식,안주지원 | F18: =SUM(H18:K18) -> 48050 | H18: 48050
A19: 득현 | B19: 2.19 | C19: 공연진 식수지원 | E19: 사업지원비-OT지원-물,간식,안주지원 | F19: =SUM(H19:K19) -> 28000 | H19: 28000
A20: 경민 | B20: 2.20 | C20: 렌터카 하이패스 | E20: 사업지원비-OT지원-기타 | F20: =SUM(H20:K20) -> 11800 | H20: 11800
A21: 경민 | B21: 2.20 | C21: 렌터카 주유비 | E21: 사업지원비-OT지원-기타 | F21: =SUM(H21:K21) -> 20000 | H21: 20000
A22: 득현 | B22: 3.9 | C22: 개강총회 선물 | E22: 일반지원-동아리지원-개강선물 | F22: =SUM(H22:K22) -> 53200 | I22: 53200
A23: 득현 | B23: 3.9 | C23: 개강총회 선물 | E23: 일반지원-동아리지원-개강선물 | F23: =SUM(H23:K23) -> 16000 | I23: 16000
A24: 득현 | B24: 3.9 | C24: 개강총회 선물 | E24: 일반지원-동아리지원-개강선물 | F24: =SUM(H24:K24) -> 16500 | I24: 16500
A25: 득현 | B25: 3.10 | C25: 개강총회 선물 | E25: 일반지원-동아리지원-개강선물 | F25: =SUM(H25:K25) -> 35600 | I25: 35600
A26: 득현 | B26: 3.13 | C26: 개강총회 선물 | E26: 일반지원-동아리지원-개강선물 | F26: =SUM(H26:K26) -> 14900 | I26: 14900
A27: 득현 | B27: 3.14 | C27: 개강총회 선물 | E27: 일반지원-동아리지원-개강선물 | F27: =SUM(H27:K27) -> 51400 | I27: 51400
A28: 득현 | B28: 3.15 | C28: 개강총회 선물 | E28: 일반지원-동아리지원-개강선물 | F28: =SUM(H28:K28) -> 49500 | I28: 49500
A29: 득현 | B29: 3.16 | C29: 개강총회 선물 | E29: 일반지원-동아리지원-개강선물 | F29: =SUM(H29:K29) -> 31900 | I29: 31900
A30: 득현 | B30: 3.17 | C30: 개강총회 선물 | E30: 일반지원-동아리지원-개강선물 | F30: =SUM(H30:K30) -> 26700 | I30: 26700
B31: 3.30 | C31: 1학기 자치회비 입금 | D31: 3842500
D32: =SUM(D2:D31) -> 4042500 | F32: =SUM(F2:F31) -> 1084040
C33: 3월 잔여금액 | D33: =D32-F32 -> 2958460

Sheet 3월 선결제금 정리
A1: 날짜 | B1: 내용 | C1: 수입 | D1: 지출 | E1: 비고
A2: 3.30 | B2: 초기입금액 환급(1000원) | D2: 1000
A3: 3.30 | B3: 선결제금 지불(득현) | D3: 483940 | E3: 오입금(63090원) 동연통장으로 지불 // 420850원
A4: 3.30 | B4: 선결제금 지불(동연통장) | D4: 564900
A5: 3.30 | B5: 오입금 환불 | C5: 200000
A6: 3.30 | B6: 차액 입금 | C6: 1000 | E6: 동연통장 입금 : 363900 // 오입금 경민 지불(10200원) / 오입금 받음(63090원) // 416790원
A7: 3.30 | B7: 선결제금 지불(승준) | D7: 4400
A8: 3.30 | B8: 선결제금 지불(경민) | D8: 31800 | E8: 오입금 받음 (10200원) // 42000원

Sheet 4월지출내역
A1: 선결제 | B1: 날짜 | C1: 항목 | D1: 분류 | E1: 수입 | F1: 지출 | G1: 사무비 | H1: 사업비 | I1: 지원금 | J1: 운영비 | K1: 예비비
A2: 민석 | B2: 04월 04일 | C2: 배 모형 제작에 필요한 재료 구매(페인트, A4용지) | D2: 사업비-사업지원비-기타사업 지원 | F2: =SUM(G2:K2) -> 28180 | H2: 28180
A3: 민석 | B3: 04월 05일 | C3: 종이배 나무에 달 재료 구매 (낚시줄), 우비 구매 | D3: 사업비-사업지원비-기타사업 지원 | F3: =SUM(G3:K3) -> 9100 | H3: 9100
A4: 승준 | B4: 42831 | C4: 화이트보드(더지니어스 물품구매) | D4: 사무비-운영비-사무비 | F4: =SUM(G4:K4) -> 10000 | G4: 10000
A5: 승준 | B5: 42831 | C5: 젠가(더지니어스 물품구매), 종이봉투 | D5: 사무비-운영비-사무비 | F5: =SUM(G5:K5) -> 15100 | G5: 15100
B6: 42831 | C6: 돗자리(대형) 14개 구입 | D6: 사무비-운영비-사무비 | F6: =SUM(G6:K6) -> 126000 | G6: 126000
B7: 42831 | C7: 돗자리 계좌이체 수수료 | D7: 예비비-예비비-예비비 | F7: =SUM(G7:K7) -> 1000 | K7: 1000
B8: 42833 | C8: LT 교통비(택시) | D8: 사무비-업무추진비-운영비-LT | F8: =SUM(G8:K8) -> 6000 | G8: 6000
B9: 42833 | C9: LT 교통비(택시) | D9: 사무비-업무추진비-운영비-LT | F9: =SUM(G9:K9) -> 5500 | G9: 5500
A10: 다현 | B10: 42833 | C10: LT 식비 | D10: 사무비-업무추진비-운영비-LT | F10: =SUM(G10:K10) -> 11960 | G10: 11960
A11: 상수 | B11: 42833 | C11: LT 교통비(택시) | D11: 사무비-업무추진비-운영비-LT | F11: =SUM(G11:K11) -> 5500 | G11: 5500
A12: 승준 | B12: 42833 | C12: LT 교통비(택시) | D12: 사무비-업무추진비-운영비-LT | F12: =SUM(G12:K12) -> 4900 | G12: 4900
A13: 승준 | B13: 42834 | C13: LT 교통비(택시) | D13: 사무비-업무추진비-운영비-LT | F13: =SUM(G13:K13) -> 6300 | G13: 6300
B14: 42834 | C14: LT 교통비 계좌이체 수수료 | D14: 예비비-예비비-예비비 | F14: =SUM(G14:K14) -> 500 | K14: 500
A15: 상수 | B15: 42834 | C15: LT 교통비(택시) | D15: 사무비-업무추진비-운영비-LT | F15: =SUM(G15:K15) -> 6000 | G15: 6000
A16: 민석 | B16: 04월 10일 | C16: 리본고리 붙이는 재료(접착제) 구매 | D16: 사업비-사업지원비-기타사업 지원 | F16: =SUM(G16:K16) -> 6000 | H16: 6000
A17: 민석 | B17: 04월 12일 | C17: 행사에 필요한 모나미 펜 구매 | D17: 사업비-사업지원비-기타사업 지원 | F17: =SUM(G17:K17) -> 3600 | H17: 3600
A18: 민석 | B18: 04월 13일 | C18: 배 접는 종이(A4) 추가 구매 | D18: 사업비-사업지원비-기타사업 지원 | F18: =SUM(G18:K18) -> 1500 | H18: 1500
A19: 민석 | B19: 04월 13일 | C19: 배 접는 종이(A4) 추가 구매 | D19: 사업비-사업지원비-기타사업 지원 | F19: =SUM(G19:K19) -> 1500 | H19: 1500
A20: 민석 | B20: 04월 14일 | C20: 세월호 추모행사 배 제작 재료비 | D20: 사업비-사업지원비-기타사업 지원 | F20: =SUM(G20:K20) -> 20300 | H20: 20300
A21: 민석 | B21: 04월 14일 | C21: 안산분향소까지 가는 교통비(렌트카 대여) | D21: 사업비-사업지원비-기타사업 지원 | F21: =SUM(G21:K21) -> 18460 | H21: 18460
A22: 민석 | B22: 04월 14일 | C22: 안산분향소까지 가는 교통비(렌트카 대여) | D22: 사업비-사업지원비-기타사업 지원 | F22: =SUM(G22:K22) -> 13140 | H22: 13140
F23: =SUM(G23:K23) -> 0
E24: 총수입 | F24: 총지출
E25: =SUM(E2:E24) -> 0 | F25: =SUM(F2:F24) -> 300540
D26: 4월 잔여금액 | E26: ='3월지출내역'!D33-'4월지출내역'!F25+'4월지출내역'!E25 -> 2657920

Sheet 4월 선결제금 정리
A1: 날짜 | B1: 내용 | C1: 수입 | D1: 지출 | E1: 비고

Sheet 5월 지출내역
A1: 선결제 | B1: 날짜 | C1: 항목 | D1: 분류 | E1: 수입 | F1: 지출 | G1: 사무비 | H1: 사업비 | I1: 지원금 | J1: 운영비 | K1: 예비비
B2: 05월 10일 | C2: 영구접착제 | F2: =SUM(G2:K2) -> 28000 | G2: 28000
F3: =SUM(G3:K3) -> 0
F4: =SUM(G4:K4) -> 0
F5: =SUM(G5:K5) -> 0
F6: =SUM(G6:K6) -> 0
F7: =SUM(G7:K7) -> 0
F8: =SUM(G8:K8) -> 0
F9: =SUM(G9:K9) -> 0
F10: =SUM(G10:K10) -> 0
F11: =SUM(G11:K11) -> 0
F12: =SUM(G12:K12) -> 0
F13: =SUM(G13:K13) -> 0
F14: =SUM(G14:K14) -> 0
... F23: =SUM(G23:K23) -> 0
E24: 총수입 | F24: 총지출
E25: =SUM(E2:E24) -> 0 | F25: =SUM(F2:F24) -> 28000
D26: 4월 잔여금액 | E26: ='3월지출내역'!D33-'4월지출내역'!F25+'4월지출내역'!E25 -> 2657920
